BEGIN:VCALENDAR
VERSION:2.0
PRODID:-//Dachang Vajradhara Ling - ECPv6.6.4.2//NONSGML v1.0//EN
CALSCALE:GREGORIAN
METHOD:PUBLISH
X-ORIGINAL-URL:https://vajradharaling.org
X-WR-CALDESC:évènements pour Dachang Vajradhara Ling
REFRESH-INTERVAL;VALUE=DURATION:PT1H
X-Robots-Tag:noindex
X-PUBLISHED-TTL:PT1H
BEGIN:VTIMEZONE
TZID:Europe/Paris
BEGIN:DAYLIGHT
TZOFFSETFROM:+0100
TZOFFSETTO:+0200
TZNAME:CEST
DTSTART:20210328T010000
END:DAYLIGHT
BEGIN:STANDARD
TZOFFSETFROM:+0200
TZOFFSETTO:+0100
TZNAME:CET
DTSTART:20211031T010000
END:STANDARD
END:VTIMEZONE
BEGIN:VEVENT
DTSTART;VALUE=DATE:20210312
DTEND;VALUE=DATE:20210317
DTSTAMP:20260419T175953
CREATED:20210301T061813Z
LAST-MODIFIED:20210301T061813Z
UID:4374-1615507200-1615939199@vajradharaling.org
SUMMARY:Entrainement aux pratiques et méditations
DESCRIPTION:Par Christine Bonnamy \nLiées aux séminaires de Bokar Rimpoché. \nChristine propose et anime des week-ends de pratiques en direction de tous ceux et celles participants aux séminaires de Bokar Rimpoché. C’est un moment pour pratiquer ensemble et réviser.
URL:https://vajradharaling.org/programme/pratiques-03-21/
LOCATION:Vajradhara Ling\, Domaine du Château d'Osmont\, Aubry le Panthou\, 61120\, France
CATEGORIES:Programme,Programme Vajradhara Ling,Vajradhara Ling
ATTACH;FMTTYPE=image/jpeg:https://vajradharaling.org/_-wP-_/wp-content/uploads/2019/01/Preliminaires-1.jpg
ORGANIZER;CN="Christine Bonnamy":MAILTO:bonnamy.c@orange.fr
GEO:48.856542;0.23266
X-APPLE-STRUCTURED-LOCATION;VALUE=URI;X-ADDRESS=Vajradhara Ling Domaine du Château d'Osmont Aubry le Panthou 61120 France;X-APPLE-RADIUS=500;X-TITLE=Domaine du Château d'Osmont:geo:0.23266,48.856542
END:VEVENT
BEGIN:VEVENT
DTSTART;VALUE=DATE:20210313
DTEND;VALUE=DATE:20210315
DTSTAMP:20260419T175953
CREATED:20210301T062004Z
LAST-MODIFIED:20210301T062004Z
UID:4376-1615593600-1615766399@vajradharaling.org
SUMMARY:Retraite de méditation
DESCRIPTION:Enseignement de Lama Detchen. \nRetraite de méditation et enseignements de Lama Detchen. \nInscription et renseignements : medite.org
URL:https://vajradharaling.org/programme/retraite-de-meditation-03-21/
LOCATION:Vajradhara Ling\, Domaine du Château d'Osmont\, Aubry le Panthou\, 61120\, France
CATEGORIES:Programme Vajradhara Ling,Vajradhara Ling
ATTACH;FMTTYPE=image/jpeg:https://vajradharaling.org/_-wP-_/wp-content/uploads/2015/09/Lama-Detchen-Stage-21.jpg
GEO:48.856542;0.23266
X-APPLE-STRUCTURED-LOCATION;VALUE=URI;X-ADDRESS=Vajradhara Ling Domaine du Château d'Osmont Aubry le Panthou 61120 France;X-APPLE-RADIUS=500;X-TITLE=Domaine du Château d'Osmont:geo:0.23266,48.856542
END:VEVENT
BEGIN:VEVENT
DTSTART;VALUE=DATE:20210314
DTEND;VALUE=DATE:20210315
DTSTAMP:20260419T175953
CREATED:20201009T043049Z
LAST-MODIFIED:20210301T080822Z
UID:4319-1615680000-1615766399@vajradharaling.org
SUMMARY:Introduction au bouddhisme - Historique et fondements du Bouddhisme
DESCRIPTION:Dimanche de 10h jusqu’à 16h \nIl propose un dimanche par mois une journée d’introduction au bouddhisme (de 10h à 16h). \nAu mois d’octobre\, il présente le bouddhisme et en aborde l’historique. En novembre\, il explique comment l’on devient bouddhiste et les fondements de la prise de refuge. Une cérémonie est généralement prévue pour ceux qui souhaitent devenir bouddhistes \nIl reprend le même cycle et présente à nouveau le bouddhisme et son histoire\, puis le système des déités propre au Tantrisme et  enfin \, il aborde les différentes pratiques méditatives.. \nPossibilité de ne pas suivre l’ensemble du cycle ou encore de débuter par n’importe lequel des enseignements donnés.
URL:https://vajradharaling.org/programme/introduction-bouddhisme-historique-fondements-bouddhisme-03-21/
LOCATION:Vajradhara Ling\, Domaine du Château d'Osmont\, Aubry le Panthou\, 61120\, France
CATEGORIES:Programme,Programme Vajradhara Ling,Vajradhara Ling
ATTACH;FMTTYPE=image/jpeg:https://vajradharaling.org/_-wP-_/wp-content/uploads/2015/11/Introduction-bouddhisme-11.jpg
ORGANIZER;CN="Vajradhara Ling":MAILTO:contact@vajradharaling.org
GEO:48.856542;0.23266
X-APPLE-STRUCTURED-LOCATION;VALUE=URI;X-ADDRESS=Vajradhara Ling Domaine du Château d'Osmont Aubry le Panthou 61120 France;X-APPLE-RADIUS=500;X-TITLE=Domaine du Château d'Osmont:geo:0.23266,48.856542
END:VEVENT
END:VCALENDAR