BEGIN:VCALENDAR
VERSION:2.0
PRODID:-//Dachang Vajradhara Ling - ECPv6.6.4.2//NONSGML v1.0//EN
CALSCALE:GREGORIAN
METHOD:PUBLISH
X-WR-CALNAME:Dachang Vajradhara Ling
X-ORIGINAL-URL:https://vajradharaling.org
X-WR-CALDESC:évènements pour Dachang Vajradhara Ling
REFRESH-INTERVAL;VALUE=DURATION:PT1H
X-Robots-Tag:noindex
X-PUBLISHED-TTL:PT1H
BEGIN:VTIMEZONE
TZID:Europe/Paris
BEGIN:DAYLIGHT
TZOFFSETFROM:+0100
TZOFFSETTO:+0200
TZNAME:CEST
DTSTART:20200329T010000
END:DAYLIGHT
BEGIN:STANDARD
TZOFFSETFROM:+0200
TZOFFSETTO:+0100
TZNAME:CET
DTSTART:20201025T010000
END:STANDARD
END:VTIMEZONE
BEGIN:VEVENT
DTSTART;VALUE=DATE:20200724
DTEND;VALUE=DATE:20200725
DTSTAMP:20260424T034537
CREATED:20200626T063733Z
LAST-MODIFIED:20200626T064256Z
UID:4252-1595548800-1595635199@vajradharaling.org
SUMMARY:Offrande de mille lumières - Chökor Düchen
DESCRIPTION:Offrande de mille lumières – Chökor Düchen\nPar Lama Gyourmé\nOffrande de mille lumières  pour célébrer Chökor Düchen\, jour où fut tourné pour la première fois la roue de l’enseignement par le Bouddha Sakyamouni.
URL:https://vajradharaling.org/programme/offrande-de-mille-lumieres-chokor-duchen/
LOCATION:Vajradhara Ling\, Domaine du Château d'Osmont\, Aubry le Panthou\, 61120\, France
CATEGORIES:Programme,Programme Vajradhara Ling,Vajradhara Ling
ATTACH;FMTTYPE=image/jpeg:https://vajradharaling.org/_-wP-_/wp-content/uploads/2020/06/Chokor-Duchen-1.jpg
ORGANIZER;CN="Lama Gyourm%C3%A9":MAILTO:contact@vajradharaling.org
GEO:48.856542;0.23266
X-APPLE-STRUCTURED-LOCATION;VALUE=URI;X-ADDRESS=Vajradhara Ling Domaine du Château d'Osmont Aubry le Panthou 61120 France;X-APPLE-RADIUS=500;X-TITLE=Domaine du Château d'Osmont:geo:0.23266,48.856542
END:VEVENT
BEGIN:VEVENT
DTSTART;VALUE=DATE:20200725
DTEND;VALUE=DATE:20200727
DTSTAMP:20260424T034537
CREATED:20200626T064223Z
LAST-MODIFIED:20200626T064433Z
UID:4255-1595635200-1595807999@vajradharaling.org
SUMMARY:Pratique et Initiation de Mahakala
DESCRIPTION:Pratique et Initiation de Mahakala\nPar Lama Gyourmé\nLa pratique de Mahakala Chadroupa permet d’écarter les obstacles profonds que le pratiquant peut rencontrer dans son cheminement.\nL’aspect courroucé qu’est Mahakala puise dans des zones obscures de notre psyché des ressources vives et insoupçonnées pour nous permettre de nous confronter avec les émotions\, les angoisses\, les peurs les plus tenaces.
URL:https://vajradharaling.org/programme/pratique-et-initiation-de-mahakala-2020/
LOCATION:Vajradhara Ling\, Domaine du Château d'Osmont\, Aubry le Panthou\, 61120\, France
CATEGORIES:Programme,Programme Vajradhara Ling,Vajradhara Ling
ATTACH;FMTTYPE=image/jpeg:https://vajradharaling.org/_-wP-_/wp-content/uploads/2015/09/Mahakala-21.jpg
ORGANIZER;CN="Lama Gyourm%C3%A9":MAILTO:contact@vajradharaling.org
GEO:48.856542;0.23266
X-APPLE-STRUCTURED-LOCATION;VALUE=URI;X-ADDRESS=Vajradhara Ling Domaine du Château d'Osmont Aubry le Panthou 61120 France;X-APPLE-RADIUS=500;X-TITLE=Domaine du Château d'Osmont:geo:0.23266,48.856542
END:VEVENT
END:VCALENDAR