BEGIN:VCALENDAR
VERSION:2.0
PRODID:-//Dachang Vajradhara Ling - ECPv6.6.4.2//NONSGML v1.0//EN
CALSCALE:GREGORIAN
METHOD:PUBLISH
X-ORIGINAL-URL:https://vajradharaling.org
X-WR-CALDESC:évènements pour Dachang Vajradhara Ling
REFRESH-INTERVAL;VALUE=DURATION:PT1H
X-Robots-Tag:noindex
X-PUBLISHED-TTL:PT1H
BEGIN:VTIMEZONE
TZID:Europe/Paris
BEGIN:DAYLIGHT
TZOFFSETFROM:+0100
TZOFFSETTO:+0200
TZNAME:CEST
DTSTART:20250330T010000
END:DAYLIGHT
BEGIN:STANDARD
TZOFFSETFROM:+0200
TZOFFSETTO:+0100
TZNAME:CET
DTSTART:20251026T010000
END:STANDARD
END:VTIMEZONE
BEGIN:VEVENT
DTSTART;VALUE=DATE:20250820
DTEND;VALUE=DATE:20250825
DTSTAMP:20260420T020505
CREATED:20220220T093044Z
LAST-MODIFIED:20250301T214633Z
UID:1204-1755648000-1756079999@vajradharaling.org
SUMMARY:Retraite du Bouddha de Médecine
DESCRIPTION:Méditations et Prières pour les malades\nLa médecine Tibétaine démontre que la cause de la plupart des maladies est l’esprit ignorant dont nous avons fait preuve au cours de toutes nos vies. Les Maîtres soulignent l’urgence d’emprunter le chemin de la sagesse afin que notre précieux corps humain soit un outil d’accumulation de mérites\, l’esprit dirigé vers l’Éveil. \nDurant la retraite\, motivés par le souhait ardent que toutes les maladies disparaissent de la Terre\, nous pratiquons quotidiennement le Bouddha de Médecine – Sangye Menla. Énergie de guérison découlant de la récitation de Mantra\, de visualisations et d’absorption méditative remplissent le pratiquant. \nConvaincus de l’interdépendance de toutes choses\, nous faisons les souhaits pour les proches\, la famille et les malades à l’autre bout de la planète.\nLes offrandes de Lumière sont quotidiennes. \nLa retraite est accompagnée de nourriture saine et d’activités physiques entretenant un bon état de santé. \n 
URL:https://vajradharaling.org/programme/retraite-du-bouddha-de-medecine/
LOCATION:Mahamoudra Ling\, Les Grosses Pierres\, Longny les Villages\, 61290\, France
CATEGORIES:Mahamoudra Ling,Programme Mahamoudra Ling
ATTACH;FMTTYPE=image/jpeg:https://vajradharaling.org/_-wP-_/wp-content/uploads/2019/02/MahamoudraLing-medecine-770x420.jpeg
ORGANIZER;CN="Mahamoudra Ling":MAILTO:mahamoudraling@vajradharaling.org
GEO:48.57454;0.774666
X-APPLE-STRUCTURED-LOCATION;VALUE=URI;X-ADDRESS=Mahamoudra Ling Les Grosses Pierres Longny les Villages 61290 France;X-APPLE-RADIUS=500;X-TITLE=Les Grosses Pierres:geo:0.774666,48.57454
END:VEVENT
END:VCALENDAR