BEGIN:VCALENDAR
VERSION:2.0
PRODID:-//Dachang Vajradhara Ling - ECPv6.6.4.2//NONSGML v1.0//EN
CALSCALE:GREGORIAN
METHOD:PUBLISH
X-ORIGINAL-URL:https://vajradharaling.org
X-WR-CALDESC:évènements pour Dachang Vajradhara Ling
REFRESH-INTERVAL;VALUE=DURATION:PT1H
X-Robots-Tag:noindex
X-PUBLISHED-TTL:PT1H
BEGIN:VTIMEZONE
TZID:Europe/Paris
BEGIN:DAYLIGHT
TZOFFSETFROM:+0100
TZOFFSETTO:+0200
TZNAME:CEST
DTSTART:20200329T010000
END:DAYLIGHT
BEGIN:STANDARD
TZOFFSETFROM:+0200
TZOFFSETTO:+0100
TZNAME:CET
DTSTART:20201025T010000
END:STANDARD
END:VTIMEZONE
BEGIN:VEVENT
DTSTART;VALUE=DATE:20200912
DTEND;VALUE=DATE:20200914
DTSTAMP:20260423T104834
CREATED:20200820T141308Z
LAST-MODIFIED:20201009T043551Z
UID:4300-1599868800-1600041599@vajradharaling.org
SUMMARY:Enseignement sur «Le précieux ornement de la libération »
DESCRIPTION:Enseignement sur «Le précieux ornement de la libération»\nLe 12 (10h et 15h) et le 13 (10h et 14h) \nCe texte écrit par Gampopa (1079-1153) est un exposé concis des paroles authentiques de Bouddha . \nC’est un ouvrage essentiel  à l’usage de ceux que le bouddhisme intéresse. \nLama Gyourmé par ses commentaires nous aidera à comprendre en quoi ce texte est un support important  à notre pratique. \nA cause des mesures sanitaires liées à la Covid (limitation du nombre de places\, etc…) vous devez vous inscrire obligatoirement avant le 6 septembre même si vous n’assistez qu’aux enseignements à : contact@vajradharaling.org
URL:https://vajradharaling.org/programme/enseignement-sur-le-precieux-ornement-de-la-liberation/
LOCATION:Vajradhara Ling\, Domaine du Château d'Osmont\, Aubry le Panthou\, 61120\, France
CATEGORIES:Lama Gyourme,Programme,Programme Vajradhara Ling,Vajradhara Ling
ATTACH;FMTTYPE=image/jpeg:https://vajradharaling.org/_-wP-_/wp-content/uploads/2020/08/Gampopa-1.jpg
ORGANIZER;CN="Lama Gyourm%C3%A9":MAILTO:contact@vajradharaling.org
GEO:48.856542;0.23266
X-APPLE-STRUCTURED-LOCATION;VALUE=URI;X-ADDRESS=Vajradhara Ling Domaine du Château d'Osmont Aubry le Panthou 61120 France;X-APPLE-RADIUS=500;X-TITLE=Domaine du Château d'Osmont:geo:0.23266,48.856542
END:VEVENT
END:VCALENDAR